 BEGIN:VCALENDAR
VERSION:2.0
PRODID:-//Northland Chamber of Commerce - ECPv6.15.11//NONSGML v1.0//EN
CALSCALE:GREGORIAN
METHOD:PUBLISH
X-WR-CALNAME:Northland Chamber of Commerce
X-ORIGINAL-URL:https://northland.prodjex.dev
X-WR-CALDESC:Events for Northland Chamber of Commerce
REFRESH-INTERVAL;VALUE=DURATION:PT1H
X-Robots-Tag:noindex
X-PUBLISHED-TTL:PT1H
BEGIN:VTIMEZONE
TZID:America/Chicago
BEGIN:DAYLIGHT
TZOFFSETFROM:-0600
TZOFFSETTO:-0500
TZNAME:CDT
DTSTART:20240310T080000
END:DAYLIGHT
BEGIN:STANDARD
TZOFFSETFROM:-0500
TZOFFSETTO:-0600
TZNAME:CST
DTSTART:20241103T070000
END:STANDARD
BEGIN:DAYLIGHT
TZOFFSETFROM:-0600
TZOFFSETTO:-0500
TZNAME:CDT
DTSTART:20250309T080000
END:DAYLIGHT
BEGIN:STANDARD
TZOFFSETFROM:-0500
TZOFFSETTO:-0600
TZNAME:CST
DTSTART:20251102T070000
END:STANDARD
BEGIN:DAYLIGHT
TZOFFSETFROM:-0600
TZOFFSETTO:-0500
TZNAME:CDT
DTSTART:20260308T080000
END:DAYLIGHT
BEGIN:STANDARD
TZOFFSETFROM:-0500
TZOFFSETTO:-0600
TZNAME:CST
DTSTART:20261101T070000
END:STANDARD
END:VTIMEZONE
BEGIN:VEVENT
DTSTART;TZID=America/Chicago:20250920T093000
DTEND;TZID=America/Chicago:20250920T170000
DTSTAMP:20260420T221605
CREATED:20250919T192030Z
LAST-MODIFIED:20250919T192030Z
UID:10000002-1758360600-1758387600@northland.prodjex.dev
SUMMARY:Trevor Super fun Event
DESCRIPTION:This is going to be the BEST TIME …. \nSuper great time\, Join Us
URL:https://northland.prodjex.dev/event/trevor-super-fun-event/
LOCATION:The Company Hall\, 75 Rev Dr Martin Luther King Jr Boulevard\, Saint Paul\, United States
ATTACH;FMTTYPE=image/jpeg:https://northland.prodjex.dev/wp-content/uploads/2025/09/u5-alrawasmarwan_83477_12613114_photovoltaic-system-2742302_1920-868x556-1.jpg
END:VEVENT
BEGIN:VEVENT
DTSTART;TZID=America/Chicago:20250921T080000
DTEND;TZID=America/Chicago:20250921T130000
DTSTAMP:20260420T221605
CREATED:20250919T195349Z
LAST-MODIFIED:20250919T200354Z
UID:10000003-1758441600-1758459600@northland.prodjex.dev
SUMMARY:Test event
DESCRIPTION:Cool times \n 
URL:https://northland.prodjex.dev/event/test-event/
LOCATION:MO
ATTACH;FMTTYPE=image/jpeg:https://northland.prodjex.dev/wp-content/uploads/2025/09/u6-63ae89dc035b9896e61bd71b_How-to-calculate-shipping-cost-per-item.jpg
END:VEVENT
END:VCALENDAR