 BEGIN:VCALENDAR
VERSION:2.0
PRODID:-//Northland Chamber of Commerce - ECPv6.15.11//NONSGML v1.0//EN
CALSCALE:GREGORIAN
METHOD:PUBLISH
X-ORIGINAL-URL:https://northland.prodjex.dev
X-WR-CALDESC:Events for Northland Chamber of Commerce
REFRESH-INTERVAL;VALUE=DURATION:PT1H
X-Robots-Tag:noindex
X-PUBLISHED-TTL:PT1H
BEGIN:VTIMEZONE
TZID:America/Chicago
BEGIN:DAYLIGHT
TZOFFSETFROM:-0600
TZOFFSETTO:-0500
TZNAME:CDT
DTSTART:20250309T080000
END:DAYLIGHT
BEGIN:STANDARD
TZOFFSETFROM:-0500
TZOFFSETTO:-0600
TZNAME:CST
DTSTART:20251102T070000
END:STANDARD
BEGIN:DAYLIGHT
TZOFFSETFROM:-0600
TZOFFSETTO:-0500
TZNAME:CDT
DTSTART:20260308T080000
END:DAYLIGHT
BEGIN:STANDARD
TZOFFSETFROM:-0500
TZOFFSETTO:-0600
TZNAME:CST
DTSTART:20261101T070000
END:STANDARD
BEGIN:DAYLIGHT
TZOFFSETFROM:-0600
TZOFFSETTO:-0500
TZNAME:CDT
DTSTART:20270314T080000
END:DAYLIGHT
BEGIN:STANDARD
TZOFFSETFROM:-0500
TZOFFSETTO:-0600
TZNAME:CST
DTSTART:20271107T070000
END:STANDARD
END:VTIMEZONE
BEGIN:VEVENT
DTSTART;TZID=America/Chicago:20260102T080000
DTEND;TZID=America/Chicago:20260102T170000
DTSTAMP:20260420T180033
CREATED:20251021T231639Z
LAST-MODIFIED:20251127T192257Z
UID:10000005-1767340800-1767373200@northland.prodjex.dev
SUMMARY:Company Training Workshop 2nd January\, 2026
DESCRIPTION:Description:Join us for our upcoming Company Training Workshop\, designed to enhance your professional skills and provide hands-on learning opportunities. This session will cover best practices\, practical strategies\, and real-world applications to help you excel in your role. \nWhether you are new to the team or looking to refresh your knowledge\, this training will give you valuable insights\, foster collaboration\, and ensure you are up-to-date with the latest company standards and tools. \nWhat to Expect: \n\n\nInteractive presentations and group discussions \n\n\nPractical exercises tailored to your daily tasks \n\n\nGuidance from experienced trainers \n\n\nOpportunities to ask questions and share feedback \n\n\nWho Should Attend:All team members are encouraged to participate. Attendance is especially recommended for new employees\, team leads\, and anyone interested in improving efficiency and teamwork.
URL:https://northland.prodjex.dev/event/company-training-workshop-2nd-january-2026/
LOCATION:MO
ATTACH;FMTTYPE=image/png:https://northland.prodjex.dev/wp-content/uploads/2025/10/workshop.png
END:VEVENT
BEGIN:VEVENT
DTSTART;TZID=America/Chicago:20260105T080000
DTEND;TZID=America/Chicago:20260105T170000
DTSTAMP:20260420T180033
CREATED:20251224T164922Z
LAST-MODIFIED:20251224T164922Z
UID:10000006-1767600000-1767632400@northland.prodjex.dev
SUMMARY:Company Training Workshop 5th January\, 2026
DESCRIPTION:Description:Join us for our upcoming Company Training Workshop\, designed to enhance your professional skills and provide hands-on learning opportunities. This session will cover best practices\, practical strategies\, and real-world applications to help you excel in your role. \nWhether you are new to the team or looking to refresh your knowledge\, this training will give you valuable insights\, foster collaboration\, and ensure you are up-to-date with the latest company standards and tools. \nWhat to Expect: \n\n\nInteractive presentations and group discussions \n\n\nPractical exercises tailored to your daily tasks \n\n\nGuidance from experienced trainers \n\n\nOpportunities to ask questions and share feedback \n\n\nWho Should Attend:All team members are encouraged to participate. Attendance is especially recommended for new employees\, team leads\, and anyone interested in improving efficiency and teamwork.
URL:https://northland.prodjex.dev/event/company-training-workshop-5th-january-2026/
LOCATION:MO
END:VEVENT
BEGIN:VEVENT
DTSTART;TZID=America/Chicago:20260712T080000
DTEND;TZID=America/Chicago:20260712T230000
DTSTAMP:20260420T180033
CREATED:20260318T190242Z
LAST-MODIFIED:20260318T190242Z
UID:10000008-1783843200-1783897200@northland.prodjex.dev
SUMMARY:FIFA World Cup Watch Party
DESCRIPTION:Join us for the ultimate FIFA World Cup 2026™ Watch Party as the world’s biggest sporting event comes to North America! Experience the thrill of the beautiful game on the big screen with fellow fans as 48 teams compete for glory across the USA\, Mexico\, and Canada. \nWhether you’re cheering for a host nation or your favorite international squad\, come enjoy: \n\n\nLive Match Coverage: From the opening match in Mexico City on June 11 to the grand final on July 19. \n\n\nAtmosphere: High-energy viewing with stadium-style seating and booming audio. \n\n\nFood & Drinks: Game-day specials and refreshments available throughout the tournament. \n\n\nDon’t miss a second of the action—wear your team colors and get ready to celebrate every goal!
URL:https://northland.prodjex.dev/event/fifa-world-cup-watch-party/
LOCATION:Power and Light District\, 50 E 13th St\, Suite 200\, Kansas City\, MO\, 64106\, United States
END:VEVENT
END:VCALENDAR